BEGIN:VCALENDAR
VERSION:2.0
PRODID:-//wp-events-plugin.com//10.0.1//EN
BEGIN:VEVENT
UID:320@oags.co.uk
DTSTART;VALUE=DATE:20260523
DTEND;VALUE=DATE:20260524
DTSTAMP:20250909T092110Z
URL:https://www.oags.co.uk/events/triangular-loretto-sedbergh-7/
SUMMARY:Triangular Loretto & Sedbergh
DESCRIPTION:9:15am Coffee and Bacon roll on arrival\n\n10:00am :18 holes fo
 ursomes\n\nHalf way hut (individual purchases)\n\nFull Carvery lunch (J&am
 p\;T required)\n\n3:15pm: Afternoon foursomes (optional)\n\nTea\, sandwich
 es  and cake post golf\n\nThe cost for the day is £145 pp approx.\n\n&nb
 sp\;\n\n&nbsp\;\n\n&nbsp\;\n\n&nbsp\;\n\n&nbsp\;
ATTACH;FMTTYPE=image/jpeg:https://www.oags.co.uk/wp-content/uploads/2019/0
 8/new-zealand_6c86d866-f767-4670-a206-347c69418055.jpg
CATEGORIES:Match
LOCATION:New Zealand Golf Club\, 470 New Zealand Golf Club\, Woodham Ln\, \
 , Woking\, KT15 3QD\, United Kingdom
GEO:51.341705202401684;-0.5231020751464257
X-APPLE-STRUCTURED-LOCATION;VALUE=URI;X-ADDRESS=470 New Zealand Golf Club\,
  Woodham Ln\, \, Woking\, KT15 3QD\, United Kingdom;X-APPLE-RADIUS=100;X-T
 ITLE=New Zealand Golf Club:geo:51.341705202401684,-0.5231020751464257
END:VEVENT
END:VCALENDAR