BEGIN:VCALENDAR
VERSION:2.0
PRODID:-//wp-events-plugin.com//10.0.1//EN
BEGIN:VEVENT
UID:273@oags.co.uk
DTSTART:20240610T140000Z
DTEND:20240610T140000Z
DTSTAMP:20231108T114356Z
URL:https://www.oags.co.uk/events/old-sennockians-4/
SUMMARY:Old Sennockians
DESCRIPTION:This match is golf only\, with green fees paid on the day to th
 e organiser\, Duncan Anderson.\nThe format is 4 ball\, with the first tee 
 time at 2.00 pm. Meet at Tandridge for a sandwich and beer beforehand.
ATTACH;FMTTYPE=image/jpeg:https://www.oags.co.uk/wp-content/uploads/2019/1
 1/Tandridge-long-17th-630x473-1.jpg
LOCATION:Tandridge Golf Club\, Godstone Road\, Oxted \, Surrey\, RH8 9NQ\, 
 United Kingdom
GEO:51.246386042138;-0.027490829638736614
X-APPLE-STRUCTURED-LOCATION;VALUE=URI;X-ADDRESS=Godstone Road\, Oxted \, Su
 rrey\, RH8 9NQ\, United Kingdom;X-APPLE-RADIUS=100;X-TITLE=Tandridge Golf 
 Club:geo:51.246386042138,-0.027490829638736614
END:VEVENT
END:VCALENDAR